BEGIN:VCALENDAR
VERSION:2.0
PRODID:-//SeeHotel &amp; Restaurant die Ente - ECPv6.15.20//NONSGML v1.0//EN
CALSCALE:GREGORIAN
METHOD:PUBLISH
X-ORIGINAL-URL:https://seehotel.de/it/
X-WR-CALDESC:Eventi per SeeHotel &amp; Restaurant die Ente
REFRESH-INTERVAL;VALUE=DURATION:PT1H
X-Robots-Tag:noindex
X-PUBLISHED-TTL:PT1H
BEGIN:VTIMEZONE
TZID:Europe/Berlin
BEGIN:DAYLIGHT
TZOFFSETFROM:+0100
TZOFFSETTO:+0200
TZNAME:CEST
DTSTART:20230326T010000
END:DAYLIGHT
BEGIN:STANDARD
TZOFFSETFROM:+0200
TZOFFSETTO:+0100
TZNAME:CET
DTSTART:20231029T010000
END:STANDARD
BEGIN:DAYLIGHT
TZOFFSETFROM:+0100
TZOFFSETTO:+0200
TZNAME:CEST
DTSTART:20240331T010000
END:DAYLIGHT
BEGIN:STANDARD
TZOFFSETFROM:+0200
TZOFFSETTO:+0100
TZNAME:CET
DTSTART:20241027T010000
END:STANDARD
BEGIN:DAYLIGHT
TZOFFSETFROM:+0100
TZOFFSETTO:+0200
TZNAME:CEST
DTSTART:20250330T010000
END:DAYLIGHT
BEGIN:STANDARD
TZOFFSETFROM:+0200
TZOFFSETTO:+0100
TZNAME:CET
DTSTART:20251026T010000
END:STANDARD
BEGIN:DAYLIGHT
TZOFFSETFROM:+0100
TZOFFSETTO:+0200
TZNAME:CEST
DTSTART:20260329T010000
END:DAYLIGHT
BEGIN:STANDARD
TZOFFSETFROM:+0200
TZOFFSETTO:+0100
TZNAME:CET
DTSTART:20261025T010000
END:STANDARD
END:VTIMEZONE
BEGIN:VEVENT
DTSTART;TZID=Europe/Berlin:20251115T180000
DTEND;TZID=Europe/Berlin:20251115T220000
DTSTAMP:20260422T190201
CREATED:20250212T210844Z
LAST-MODIFIED:20250218T172540Z
UID:11938-1763229600-1763244000@seehotel.de
SUMMARY:L'oca nella papera Parte II
DESCRIPTION:Non vedi l’ora che arrivi la stagione dell’oca ogni anno? Per noi questa usanza è sinonimo di qualcosa di particolarmente familiare\, affidabile e festoso ed è una delle nostre preferite nel calendario stagionale. Il venerdì (14 novembre) e il sabato (15 novembre)\, il fine settimana successivo al nostro festival autunnale\, serviamo l’oca ruspante Bammental come piatto principale di un menù a parte\, con una scelta di tre (€ 99) o quattro (€ 114) portate. \nPrenotate per tempo la serata e il tavolo desiderati\, i posti sono limitati.
URL:https://seehotel.de/it/termin/loca-nella-papera-parte-ii/
LOCATION:Vedi Hotel Ketsch\, Kreuzwiesenweg 5\, Ketch\, Baden-Württemberg\, 68775\, Deutschland
ATTACH;FMTTYPE=image/jpeg:https://seehotel.de/wp-content/uploads/2025/02/MG_9076-scaled.jpg
ORGANIZER;CN="Vedi Hotel Ketsch":MAILTO:info@seehotel.de
END:VEVENT
BEGIN:VEVENT
DTSTART;TZID=Europe/Berlin:20251114T180000
DTEND;TZID=Europe/Berlin:20251114T220000
DTSTAMP:20260422T190201
CREATED:20250212T210516Z
LAST-MODIFIED:20250218T172421Z
UID:11929-1763143200-1763157600@seehotel.de
SUMMARY:L'oca nell'anatra Parte I
DESCRIPTION:Non vedi l’ora che arrivi la stagione dell’oca ogni anno? Per noi questa usanza è sinonimo di qualcosa di particolarmente familiare\, affidabile e festoso ed è una delle nostre preferite nel calendario stagionale. Il venerdì (14 novembre) e il sabato (15 novembre)\, il fine settimana successivo al nostro festival autunnale\, serviamo l’oca ruspante Bammental come piatto principale di un menù a parte\, con una scelta di tre (€ 99) o quattro (€ 114) portate. \nPrenotate per tempo la serata e il tavolo desiderati\, i posti sono limitati.
URL:https://seehotel.de/it/termin/loca-nellanatra-parte-i/
LOCATION:Vedi Hotel Ketsch\, Kreuzwiesenweg 5\, Ketch\, Baden-Württemberg\, 68775\, Deutschland
ATTACH;FMTTYPE=image/jpeg:https://seehotel.de/wp-content/uploads/2025/02/MG_9076-scaled.jpg
ORGANIZER;CN="Vedi Hotel Ketsch":MAILTO:info@seehotel.de
END:VEVENT
BEGIN:VEVENT
DTSTART;TZID=Europe/Berlin:20251109T110000
DTEND;TZID=Europe/Berlin:20251109T180000
DTSTAMP:20260422T190201
CREATED:20250107T143027Z
LAST-MODIFIED:20250107T143526Z
UID:10936-1762686000-1762711200@seehotel.de
SUMMARY:Festa d'autunno
DESCRIPTION:Il nostro festival autunnale è L’occasione per entrare nel vivo del periodo dell’Avvento e per scegliere regali di Natale personalizzati per i tuoi cari e oggetti straordinariamente belli per la tua casa con molto tempo a disposizione. Una festa per tutti i sensi\, con una vicinanza tangibile e visibile al Natale\, ma che allo stesso tempo offre ispirazione per tutto l’anno e classici dell’arredamento senza tempo. \nOltre a interni eleganti\, accessori insoliti e tutti i tipi di articoli festivi nell’area espositiva\, troverai partner e fornitori selezionati con i loro prodotti artigianali. E dato che un’esperienza di shopping così colorata fa venire fame\, serviamo tutto il giorno piatti selezionati dalla nostra cucina a base di anatra per soddisfare piccoli e grandi appetiti… \nPorta i tuoi cari alla festa d’autunno e combina ore di shopping e divertimento in riva al lago con una lunga passeggiata nella campagna proprio davanti alla nostra porta di casa. Sarà una domenica perfetta\, te lo promettiamo!
URL:https://seehotel.de/it/termin/festa-dautunno-2/
LOCATION:Vedi Hotel Ketsch\, Kreuzwiesenweg 5\, Ketch\, Baden-Württemberg\, 68775\, Deutschland
ATTACH;FMTTYPE=image/jpeg:https://seehotel.de/wp-content/uploads/2025/01/Motiv-2-scaled.jpg
ORGANIZER;CN="Vedi Hotel Ketsch":MAILTO:info@seehotel.de
END:VEVENT
BEGIN:VEVENT
DTSTART;TZID=Europe/Berlin:20250911T080000
DTEND;TZID=Europe/Berlin:20250914T170000
DTSTAMP:20260422T190201
CREATED:20250107T144845Z
LAST-MODIFIED:20250107T144845Z
UID:10945-1757577600-1757869200@seehotel.de
SUMMARY:Festival GLÜCKSGEFÜHLE
DESCRIPTION:Il Festival GLÜCKSGEFÜHLE torna all’Hockenheimring dall’11 al 14 settembre 2025! Il SeeHotel è il punto di partenza perfetto per questa maratona di concerti: pace e tranquillità per le orecchie stanche\, immerso nel verde\, ma a soli sei chilometri di distanza\, così vicino che in teoria potresti anche fare il percorso “a piedi” fino al Ring.  \nFedele al motto “Il GLÜCK torna a casa”\, l’Hockenheimring si trasformerà ancora una volta nel centro della felicità in questo weekend di settembre. Il più grande festival musicale della Germania\, che ha riscosso un successo travolgente alla sua prima edizione\, anche quest’anno proporrà i migliori artisti dei generi pop\, rock\, hip hop e EDM e 40 ore di musica dal vivo su diversi palchi. \nRilassati tra un’esibizione e l’altra dei tuoi artisti preferiti nei nostri salotti\, metti i piedi stanchi sull’amaca o concediti un drink al bar all’aperto.
URL:https://seehotel.de/it/termin/festival-gluecksgefuehle-2/
LOCATION:Hockenheimring\, Al Motodrom 1\, Hockenheim\, Baden-Württemberg\, 68766\, Deutschland
ATTACH;FMTTYPE=image/jpeg:https://seehotel.de/wp-content/uploads/2024/05/Festival-scaled.jpg
END:VEVENT
BEGIN:VEVENT
DTSTART;TZID=Europe/Berlin:20250417T180000
DTEND;TZID=Europe/Berlin:20250417T220000
DTSTAMP:20260422T190201
CREATED:20250212T125407Z
LAST-MODIFIED:20250212T130538Z
UID:11717-1744912800-1744927200@seehotel.de
SUMMARY:Fortuna al bar
DESCRIPTION:
URL:https://seehotel.de/it/termin/fortuna-al-bar-2/
LOCATION:Vedi Hotel Ketsch\, Kreuzwiesenweg 5\, Ketch\, Baden-Württemberg\, 68775\, Deutschland
ATTACH;FMTTYPE=image/webp:https://seehotel.de/wp-content/uploads/2025/01/MG_4127-scaled-1.webp
ORGANIZER;CN="Vedi Hotel Ketsch":MAILTO:info@seehotel.de
END:VEVENT
BEGIN:VEVENT
DTSTART;TZID=Europe/Berlin:20250214T180000
DTEND;TZID=Europe/Berlin:20250214T220000
DTSTAMP:20260422T190201
CREATED:20241219T154559Z
LAST-MODIFIED:20250212T130956Z
UID:10807-1739556000-1739570400@seehotel.de
SUMMARY:San Valentino al lago
DESCRIPTION:MENU SERALE COMPLETAMENTE PRENOTATO! \nSemplicemente uscire. Semplicemente romantico.  \nStai ancora cercando un regalo speciale? Che ne dici di un’indimenticabile serata insieme? Ti accompagneremo in un viaggio culinario che celebra e rafforza l’amore.   Questa serata è anche un’ottima occasione per le coppie di fidanzati di godersi in pace l’imminente emozione del loro matrimonio. Segna in agenda il 14 febbraio per una serata dal menù semplicemente speciale nel nostro ristorante Die Ente… \nLACHSFORELLE | Sottaceto – Lattuga di agnello – Blini \nRISOTTO | limone – crescione – parmigiano \nFILETTO DI MANZO | scalogno al vino rosso – salsefrica nera – purè di patate \nCIOCCOLATO SCURO | Arancia rossa \n– 4 portate a € 99 a persona – \nSan Valentino cade di venerdì nel 2025: l’occasione perfetta per prolungare il romanticismo ancora un po’ e prenotare il nostro pacchetto San Valentino con pernottamento. Abbiamo tutto pronto:  \n🍽️ Esclusivo menu di San Valentino di 4 portate nel nostro ristorante Die Ente\, cucinato con maestria e amore \n🍾 Pernottamento nelle nostre nuove camere doppie Comfort Plus\, con una bottiglia ghiacciata di spumante della cantina. \n🥐 Colazione gourmet il mattino seguente \n– € 219 a persona – \nFai un semplice upgrade: A volte vuoi solo un po’ di più di tutto. E se non a San Valentino\, quando? Piccoli extra come cioccolatini o altri dettagli deliziosi possono rendere la serata ancora più speciale. Abbiamo raccolto una serie di idee aggiuntive su come rendere il tuo soggiorno ancora più speciale:    \n🏨 Upgrade Suite (soggetto a disponibilità): € 125 \n🍾 Upgrade champagne in camera d’albergo: € 65 \n🍫 Aggiornamento dei cioccolatini in camera d’albergo: 6 pezzi (€ 10) o 12 pezzi (€ 18) \n💐 Upgrade bouquet di fiori\, in camera e/o al tavolo: da € 30 \n🎁 Regalo di aggiornamento dal nostro concept store: personalizzato 🙂 \nSaremo inoltre lieti di consigliarti individualmente sui nostri vari servizi e opzioni. Prenota ora e trasforma il giorno di San Valentino in qualcosa di unico! Non vediamo l’ora di regalare a te e alla persona che ami un giorno indimenticabile che ricorderete a lungo. 💕
URL:https://seehotel.de/it/termin/san-valentino-al-lago/
LOCATION:Vedi Hotel Ketsch\, Kreuzwiesenweg 5\, Ketch\, Baden-Württemberg\, 68775\, Deutschland
ATTACH;FMTTYPE=image/jpeg:https://seehotel.de/wp-content/uploads/2024/12/Valentin_2020-scaled.jpg
ORGANIZER;CN="Vedi Hotel Ketsch":MAILTO:info@seehotel.de
END:VEVENT
BEGIN:VEVENT
DTSTART;TZID=Europe/Berlin:20241110T110000
DTEND;TZID=Europe/Berlin:20241110T180000
DTSTAMP:20260422T190201
CREATED:20240206T132110Z
LAST-MODIFIED:20241001T101551Z
UID:9293-1731236400-1731261600@seehotel.de
SUMMARY:Festa d'autunno
DESCRIPTION:Il nostro festival autunnale è L’occasione per entrare nel vivo del periodo dell’Avvento e per scegliere regali di Natale personalizzati per i tuoi cari e oggetti straordinariamente belli per la tua casa con molto tempo a disposizione. Una festa per tutti i sensi\, con una vicinanza tangibile e visibile al Natale\, ma che allo stesso tempo offre ispirazione per tutto l’anno e classici dell’arredamento senza tempo. Oltre a interni eleganti\, accessori insoliti e tutti i tipi di articoli festivi nell’area espositiva\, troverai partner e fornitori selezionati con i loro prodotti artigianali.\nE dato che un’esperienza di shopping così colorata fa venire fame\, durante tutta la giornata serviremo piatti selezionati dalla nostra cucina dell’anatra per soddisfare piccoli e grandi appetiti… Porta i tuoi cari alla festa d’autunno e combina le ore di shopping e divertimento al lago con una lunga passeggiata in campagna proprio davanti alla nostra porta di casa.\nSarà una domenica perfetta\, te lo promettiamo!\nI nostri espositori di quest’anno: Bücherinsel | Materiale di lettura per grandi e piccini Hello Greece | Specialità d’oliva 100% equo e solidale Lambert | Arredamento per la casa inconfondibile Pastry by Yannick | Pâtisserie d’arte di Heidelberg So&So | Squisiti distillati Tellergold | Un pizzico di piacere Tischmacher Weine | Vino con tutti i sensi
URL:https://seehotel.de/it/termin/festa-dautunno/
LOCATION:Vedi Hotel Ketsch\, Kreuzwiesenweg 5\, Ketch\, Baden-Württemberg\, 68775\, Deutschland
ATTACH;FMTTYPE=image/jpeg:https://seehotel.de/wp-content/uploads/2024/02/SeehotelHerbstfest_2024_web.jpg
ORGANIZER;CN="Vedi Hotel Ketsch":MAILTO:info@seehotel.de
END:VEVENT
BEGIN:VEVENT
DTSTART;TZID=Europe/Berlin:20241109T180000
DTEND;TZID=Europe/Berlin:20241109T220000
DTSTAMP:20260422T190201
CREATED:20240318T160653Z
LAST-MODIFIED:20241107T085612Z
UID:9517-1731175200-1731189600@seehotel.de
SUMMARY:L'oca nell'anatra
DESCRIPTION:Non vedi l’ora che arrivi la stagione dell’oca ogni anno? Per noi questa usanza è sinonimo di qualcosa di particolarmente familiare\, affidabile e festoso ed è una delle nostre preferite nel calendario stagionale. Nel fine settimana del nostro festival autunnale\, venerdì (8 novembre) e sabato (9 novembre)\, serviamo l’oca ruspante Bammental come piatto principale di un menù a parte\, con una scelta di tre (€ 99) o quattro (€ 114) portate: \nFELDSALAT | Topinambur │ Pecan │ Pecorino | Pera \nOCHSENSCHWANZESSENZ | Gyoza | Aglio precoce \nPANNA E ARROSTO D’OCA BAMMENTALE LIBERA | Cavolo rosso │ Mela al forno │ Castagne caramellate │ Gnocchi di patate \nMARZIPAN | Mousse │ Arancia speziata │ Sorbetto \nPrenotate per tempo la serata e il tavolo desiderati\, i posti sono limitati.
URL:https://seehotel.de/it/termin/loca-nellanatra-2/
LOCATION:Vedi Hotel Ketsch\, Kreuzwiesenweg 5\, Ketch\, Baden-Württemberg\, 68775\, Deutschland
ATTACH;FMTTYPE=image/jpeg:https://seehotel.de/wp-content/uploads/2024/03/3-2.jpg
ORGANIZER;CN="Vedi Hotel Ketsch":MAILTO:info@seehotel.de
END:VEVENT
BEGIN:VEVENT
DTSTART;TZID=Europe/Berlin:20241108T180000
DTEND;TZID=Europe/Berlin:20241108T220000
DTSTAMP:20260422T190201
CREATED:20240318T155943Z
LAST-MODIFIED:20241007T072227Z
UID:9493-1731088800-1731103200@seehotel.de
SUMMARY:L'oca nell'anatra
DESCRIPTION:Non vedi l’ora che arrivi la stagione dell’oca ogni anno? Per noi questa usanza è sinonimo di qualcosa di particolarmente familiare\, affidabile e festoso ed è una delle nostre preferite nel calendario stagionale. Il venerdì (8 novembre) e il sabato (9 novembre) durante il weekend del nostro festival autunnale\, serviamo l’oca ruspante Bammental come piatto principale di un menu a parte\, con una scelta di tre o quattro portate. Prenotate per tempo la serata e il tavolo desiderati\, i posti sono limitati.
URL:https://seehotel.de/it/termin/loca-nellanatra/
LOCATION:Vedi Hotel Ketsch\, Kreuzwiesenweg 5\, Ketch\, Baden-Württemberg\, 68775\, Deutschland
ATTACH;FMTTYPE=image/jpeg:https://seehotel.de/wp-content/uploads/2024/03/3-2.jpg
ORGANIZER;CN="Vedi Hotel Ketsch":MAILTO:info@seehotel.de
END:VEVENT
BEGIN:VEVENT
DTSTART;TZID=Europe/Berlin:20241018T090000
DTEND;TZID=Europe/Berlin:20241020T190000
DTSTAMP:20260422T190201
CREATED:20240512T080959Z
LAST-MODIFIED:20241007T072315Z
UID:9289-1729242000-1729450800@seehotel.de
SUMMARY:Finale DTM
DESCRIPTION:Il DTM è uno degli appuntamenti imperdibili dell’automobilismo sportivo ed è stato un “set” del nostro ottobre per molti anni. Nel 2024 la varietà sarà ancora maggiore: il campo passerà a sette marchi per il 40° anniversario della serie di corse. Per la prima volta nella storia del German Touring Car Masters\, il marchio di culto britannico McLaren parteciperà a tutte le gare di una stagione. La McLaren 720 GT3 Evo dovrà affrontare la dura concorrenza di Audi\, BMW\, Ferrari\, Lamborghini\, Mercedes-AMG e della detentrice del titolo Porsche nel DTM di quest’anno.
URL:https://seehotel.de/it/termin/finale-dtm/
LOCATION:Hockenheimring\, Al Motodrom 1\, Hockenheim\, Baden-Württemberg\, 68766\, Deutschland
ATTACH;FMTTYPE=image/jpeg:https://seehotel.de/wp-content/uploads/2024/05/DTM.jpg
END:VEVENT
BEGIN:VEVENT
DTSTART;TZID=Europe/Berlin:20240920T090000
DTEND;TZID=Europe/Berlin:20240922T180000
DTSTAMP:20260422T190201
CREATED:20240711T120637Z
LAST-MODIFIED:20240711T120637Z
UID:9279-1726822800-1727028000@seehotel.de
SUMMARY:Finale IDM
DESCRIPTION:Tradizionalmente\, la finale dell’IDM\, la massima serie motociclistica tedesca\, si tiene al Motodrom di Baden\, a soli sei chilometri dal SeeHotel. La prima gara di moto si è svolta qui nel 1932 e il primo Gran Premio di moto si è tenuto a Hockenheim nel 1957. Poiché il vecchio circuito era troppo lungo e non c’era quasi nulla da vedere per gli spettatori nei lunghi tratti di foresta\, è stato creato un circuito più corto con migliori opportunità di sorpasso; uno dei punti salienti è probabilmente la velocissima curva a sinistra della Parabolica…
URL:https://seehotel.de/it/termin/finale-idm/
LOCATION:Hockenheimring\, Al Motodrom 1\, Hockenheim\, Baden-Württemberg\, 68766\, Deutschland
ATTACH;FMTTYPE=image/jpeg:https://seehotel.de/wp-content/uploads/2024/07/IDM.jpg
END:VEVENT
BEGIN:VEVENT
DTSTART;TZID=Europe/Berlin:20240912T080000
DTEND;TZID=Europe/Berlin:20240915T170000
DTSTAMP:20260422T190201
CREATED:20240509T111411Z
LAST-MODIFIED:20240509T111411Z
UID:9501-1726128000-1726419600@seehotel.de
SUMMARY:Festival GLÜCKSGEFÜHLE
DESCRIPTION:Il Festival GLÜCKSGEFÜHLE torna all’Hockenheimring dal 12 al 15 settembre 2024! Il SeeHotel è il punto di partenza perfetto per questa maratona di concerti: pace e tranquillità per le orecchie stanche\, immerso nel verde\, ma a soli sei chilometri di distanza\, così vicino che in teoria potresti anche fare il percorso “a piedi” fino al Ring. \nFedele al motto “Il GLÜCK torna a casa”\, l’Hockenheimring si trasformerà ancora una volta nel centro della felicità in questo weekend di settembre. Il più grande festival musicale della Germania\, che ha riscosso un successo travolgente alla sua prima edizione\, anche quest’anno proporrà i migliori artisti dei generi pop\, rock\, hip hop e EDM e 40 ore di musica dal vivo su diversi palchi. \nRilassati tra un’esibizione e l’altra dei tuoi artisti preferiti nei nostri salotti\, metti i piedi stanchi sull’amaca o concediti un drink al bar all’aperto.
URL:https://seehotel.de/it/termin/festival-gluecksgefuehle/
LOCATION:Hockenheimring\, Al Motodrom 1\, Hockenheim\, Baden-Württemberg\, 68766\, Deutschland
ATTACH;FMTTYPE=image/jpeg:https://seehotel.de/wp-content/uploads/2024/05/Festival-scaled.jpg
END:VEVENT
BEGIN:VEVENT
DTSTART;TZID=Europe/Berlin:20240823T090000
DTEND;TZID=Europe/Berlin:20240825T180000
DTSTAMP:20260422T190201
CREATED:20240512T073606Z
LAST-MODIFIED:20240512T073606Z
UID:9291-1724403600-1724608800@seehotel.de
SUMMARY:NitrOlympX
DESCRIPTION:Persino il Motodrom di Hockenheim trema quando l’incredibile potenza di 20.000 cavalli si sprigiona in una volta sola al NitrOlympX. Il SeeHotel è il punto di partenza ideale per il tuo weekend del Ring\, a soli sei chilometri dal circuito\, immerso nel verde\, con una cucina eccellente e un ambiente unico. \nLa gara di dragster NitrOlympX è diventata un evento di culto assoluto. La miscela esplosiva di velocità\, sport e spettacolo del più grande evento di drag racing al di fuori degli Stati Uniti attira ogni anno circa 40.000 fan al “Rico Anthes Quartermile”. Qui gli amanti dell’alta velocità\, dell’azione e della potenza sperimentano il fascino dell’accelerazione ai massimi livelli.
URL:https://seehotel.de/it/termin/nitrolympx/
LOCATION:Hockenheimring\, Al Motodrom 1\, Hockenheim\, Baden-Württemberg\, 68766\, Deutschland
ATTACH;FMTTYPE=image/jpeg:https://seehotel.de/wp-content/uploads/2024/05/NitrolympX.jpg
END:VEVENT
BEGIN:VEVENT
DTSTART;TZID=Europe/Berlin:20240713T170000
DTEND;TZID=Europe/Berlin:20240713T230000
DTSTAMP:20260422T190201
CREATED:20240509T082433Z
LAST-MODIFIED:20240509T082433Z
UID:9512-1720890000-1720911600@seehotel.de
SUMMARY:AC/DC
DESCRIPTION:La più grande rock’n’roll band del mondo si esibirà all’Hockenheimring il 13 luglio! Soggiorna al SeeHotel a soli sei chilometri dall’autodromo e combina l’emozionante serata del concerto con un soggiorno speciale in hotel e la rilassante tranquillità del lago. \nGli AC/DC hanno suscitato l’entusiasmo di milioni di fan in tutto il mondo con l’annuncio del loro tour europeo “POWER UP”! Il 13 luglio 2024 la band si esibirà all’Hockenheimring! \nIl tour “POWER UP”\, che prende il nome dal loro ultimo album in studio che ha raggiunto il primo posto in 21 paesi\, porterà la band in Germania\, Italia\, Spagna\, Paesi Bassi\, Austria\, Svizzera\, Inghilterra\, Slovacchia\, Belgio\, Francia e Irlanda per 21 date quest’estate\, in alcuni dei più grandi stadi del continente – il primo tour europeo della band in otto anni\, \nGli AC/DC tennero il loro primo concerto il 31 dicembre 1973 al Chequers Nightclub di Sydney. Sono uno dei gruppi rock più influenti della storia e hanno venduto oltre 200 milioni di album in tutto il mondo. Nel 2003 sono stati inseriti nella Rock and Roll Hall of Fame e nella Music Victoria Awards Hall of Fame nel loro paese natale\, l’Australia. La band continua a suonare in stadi esauriti in numerosi continenti\, vende milioni di album ogni anno e genera miliardi di streaming. \nPer celebrare i loro 50 anni di successi come “la più grande rock’n’roll band del mondo”\, sono tornati – Angus Young alla chitarra solista\, il cantante Brian Johnson\, il chitarrista ritmico Stevie Young\, il batterista Matt Laug e il bassista Chris Chaney – a suonare per la loro fedele ed enorme base di fan\, che continua a crescere di anno in anno.
URL:https://seehotel.de/it/termin/ac-dc/
LOCATION:Hockenheimring\, Al Motodrom 1\, Hockenheim\, Baden-Württemberg\, 68766\, Deutschland
ATTACH;FMTTYPE=image/png:https://seehotel.de/wp-content/uploads/2024/05/ACDC_ticket.png
END:VEVENT
BEGIN:VEVENT
DTSTART;TZID=Europe/Berlin:20240411T180000
DTEND;TZID=Europe/Berlin:20240411T220000
DTSTAMP:20260422T190201
CREATED:20240316T130944Z
LAST-MODIFIED:20240712T152938Z
UID:9499-1712858400-1712872800@seehotel.de
SUMMARY:Fortuna al bar
DESCRIPTION:Breve periodo\, grande piacere: per poche settimane\, gli asparagi ci seducono con il loro sapore delicato e la loro favolosa versatilità. La nostra varietà preferita “Meisterschuss” sta letteralmente aspettando nei campi di Ketscher Hardthof Hillenbrand. \nQuesta serata con menu di quattro portate è dedicata al 100% alle nostre verdure preferite\, la cui diversità deve essere celebrata. Dominanti o sobri\, bianchi come la neve o verdi come l’erba\, simili a mousse\, croccanti\, liquidi\, spumosi: gli asparagi sono indubbiamente un piatto forte della cucina. Assicurati subito il tuo posto preferito per queste ore speciali in riva al lago\, \n  Prenotazioni\n Accettiamo prenotazioni a partire dalle 18:00. \n \nSTANGENGLÜCK \nCARABINERO | Carpaccio – Asparagi – Lime – Frisée \nSPARGELI ARROSTITI | Scalogno al miso – Parmigiano Reggiano \nSTANGENSPARGEL | Filetto di vitello – Salsa olandese – Patate \nFRAGOLA | Cocco
URL:https://seehotel.de/it/termin/fortuna-al-bar/
LOCATION:Vedi Hotel Ketsch\, Kreuzwiesenweg 5\, Ketch\, Baden-Württemberg\, 68775\, Deutschland
ATTACH;FMTTYPE=image/jpeg:https://seehotel.de/wp-content/uploads/2024/03/MG_4127-scaled.webp
ORGANIZER;CN="Vedi Hotel Ketsch":MAILTO:info@seehotel.de
END:VEVENT
BEGIN:VEVENT
DTSTART;TZID=Europe/Berlin:20240316T110000
DTEND;TZID=Europe/Berlin:20240316T150000
DTSTAMP:20260422T190201
CREATED:20240206T122039Z
LAST-MODIFIED:20240712T152938Z
UID:9515-1710586800-1710601200@seehotel.de
SUMMARY:Vedi Mercato delle pulci dell'hotel
DESCRIPTION:Anche se il nostro posto preferito all’ingresso dell’hotel è coperto\, speriamo che il tempo sia lo stesso dell’ultimo mercatino delle pulci: dopo tutto\, è ancora più bello curiosare e fare acquisti alla luce del sole. \nAnche quest’anno verranno portati alla luce veri e propri tesori dalla cantina e dal tesoro: Bicchieri e stoviglie\, mobili\, cornici\, vasi\, decorazioni\, tovaglie\, borse\, vini\, candele… \nPer i rinfreschi\, ci sono salsicce dalla griglia\, torte dal vassoio e tutti i tipi di rinfreschi con o senza shot…
URL:https://seehotel.de/it/termin/vedi-mercato-delle-pulci-dellhotel/
LOCATION:Vedi Hotel Ketsch\, Kreuzwiesenweg 5\, Ketch\, Baden-Württemberg\, 68775\, Deutschland
ATTACH;FMTTYPE=image/jpeg:https://seehotel.de/wp-content/uploads/2024/02/Flohmarkt-scaled.webp
ORGANIZER;CN="Vedi Hotel Ketsch":MAILTO:info@seehotel.de
END:VEVENT
BEGIN:VEVENT
DTSTART;TZID=Europe/Berlin:20240214T180000
DTEND;TZID=Europe/Berlin:20240214T220000
DTSTAMP:20260422T190201
CREATED:20240214T122344Z
LAST-MODIFIED:20240214T122344Z
UID:9511-1707933600-1707948000@seehotel.de
SUMMARY:San Valentino 2024
DESCRIPTION:Che tu voglia celebrare la magia dell’unione in un ambiente elegante o semplicemente regalarti una serata speciale con le tue persone preferite: Segna in agenda il 14 febbraio per una serata con menu al nostro ristorante Die Ente. Questa serata è anche un’ottima occasione per le coppie di fidanzati di godersi in pace l’imminente emozione del loro matrimonio. Ti accompagniamo in un viaggio culinario che celebra e rafforza l’amore: un menu di San Valentino da ricordare. \nFORMAGGIO DI CAPRA: Mousse – barbabietola – asparagi verdi – lamponi – lattuga di agnello \nSKREI : Confit – crescione – cavolfiore – ravanello \nCALBSSALTIMBOCCA : Filetto – Prosciutto di Parma – Salvia – Purè di patate tartufato \nORANGENTARTE : Rabarbaro – Cioccolato bianco \n€ 89 per buongustaio
URL:https://seehotel.de/it/termin/san-valentino-2024/
LOCATION:Vedi Hotel Ketsch\, Kreuzwiesenweg 5\, Ketch\, Baden-Württemberg\, 68775\, Deutschland
ATTACH;FMTTYPE=image/jpeg:https://seehotel.de/wp-content/uploads/2024/02/Rote-Rosen-scaled.webp
ORGANIZER;CN="Vedi Hotel Ketsch":MAILTO:info@seehotel.de
END:VEVENT
BEGIN:VEVENT
DTSTART;VALUE=DATE:20240126
DTEND;VALUE=DATE:20240127
DTSTAMP:20260422T190201
CREATED:20240109T101357Z
LAST-MODIFIED:20240109T101357Z
UID:9278-1706227200-1706313599@seehotel.de
SUMMARY:Giornata di orientamento alla carriera\, Neurottschule Ketsch
DESCRIPTION:Durante la Giornata di Orientamento alle Carriere della Neurottschule Ketsch\, per gli studenti si apre una finestra piena di opportunità. Questo evento speciale\, a cui partecipa anche il Seehotel Ketsch\, offre una piattaforma unica per approfondire diversi settori professionali. Il Seehotel\, noto per l’eccellente ospitalità e il servizio di prima classe\, presenterà in questa giornata la sua ampia gamma di opportunità di carriera nel settore alberghiero. Gli studenti hanno l’opportunità di parlare direttamente con i professionisti del settore alberghiero e di conoscere gli aspetti più interessanti della gestione alberghiera\, della cucina\, della gestione degli eventi e di altri settori. \nL’evento si propone di presentare ai giovani un’ampia gamma di opportunità di carriera e di aiutarli a scegliere il loro futuro percorso professionale. Workshop\, presentazioni e sessioni interattive consentono agli studenti di acquisire esperienza pratica e una visione realistica del mondo del lavoro. Il Seehotel Ketsch svolgerà un ruolo chiave in questo senso\, mostrando esempi di percorsi di carriera nel settore dell’ospitalità e sottolineando l’importanza di competenze trasversali come il lavoro di squadra\, le capacità di comunicazione e il servizio al cliente. \nLa giornata di orientamento professionale presso la Neurottschule Ketsch è quindi una preziosa opportunità per gli studenti di scoprire i propri interessi professionali e di entrare in contatto con potenziali datori di lavoro come il Seehotel Ketsch. Questo evento dà un importante contributo allo sviluppo professionale dei giovani e li aiuta a prendere decisioni consapevoli sul loro futuro.
URL:https://seehotel.de/it/termin/giornata-di-orientamento-alla-carriera-neurottschule-ketsch/
LOCATION:Scuola Neurott Ketsch\, Gartenstrasse 31\, Ketch\, 68775\, Deutschland
ATTACH;FMTTYPE=image/jpeg:https://seehotel.de/wp-content/uploads/2023/11/MG_0159-scaled.webp
END:VEVENT
END:VCALENDAR